BEGIN:VCALENDAR
VERSION:2.0
PRODID:SchoolNow
CALSCALE:GREGORIAN
BEGIN:VEVENT
UID:333e3e84-fc37-11eb-9892-027f917cf3f1
DTSTAMP:20220113T193058Z
SUMMARY:CDD Board Meeting - Jan. 2022
LOCATION:First Florida Credit Union Community Room\, 1950 CR 210 West\, St.
  Johns\, FL 32259
URL;VALUE=URI:https://www.stjohnsforestcdd.com/calendar/2669727/cdd-board-m
 eeting-jan-2022
DTSTART:20220120T150000Z
DTEND:20220120T160000Z
ATTACH;FILENAME=2022-01-20 SJF Agenda.pdf;FMTTYPE=application/pdf:https://c
 ampussuite-storage.s3.amazonaws.com/prod/1558952/bada2d46-f057-11e9-a90e-1
 2606da399aa/2363229/f7fd769c-74a3-11ec-9e66-020de2a91987/file/2022-01-20 S
 JF Agenda.pdf
END:VEVENT
END:VCALENDAR
