BEGIN:VCALENDAR
VERSION:2.0
PRODID:SchoolNow
CALSCALE:GREGORIAN
BEGIN:VEVENT
UID:40101a24-fc37-11eb-a7ad-027f917cf3f1
DTSTAMP:20220310T183255Z
SUMMARY:CDD Board Meeting - Mar. 2022
LOCATION:First Florida Credit Union Community Room\, 1950 CR 210 West\, St.
  Johns\, FL 32259
URL;VALUE=URI:https://www.stjohnsforestcdd.com/calendar/2669728/cdd-board-m
 eeting-mar-2022
DTSTART:20220317T140000Z
DTEND:20220317T150000Z
ATTACH;FILENAME=2022-03-17 SJF Agenda.pdf;FMTTYPE=application/pdf:https://c
 ampussuite-storage.s3.amazonaws.com/prod/1558952/bada2d46-f057-11e9-a90e-1
 2606da399aa/2386357/7d3f7fb2-a0a0-11ec-bb23-0e93f8e8a853/file/2022-03-17 S
 JF Agenda.pdf
END:VEVENT
END:VCALENDAR
