BEGIN:VCALENDAR
VERSION:2.0
PRODID:SchoolNow
CALSCALE:GREGORIAN
BEGIN:VEVENT
UID:517072e6-fc37-11eb-903c-027f917cf3f1
DTSTAMP:20220512T183917Z
SUMMARY:CDD Board Meeting - May 2022
LOCATION:First Florida Credit Union Community Room\, 1950 CR 210 West\, St.
  Johns\, FL 32259
URL;VALUE=URI:https://www.stjohnsforestcdd.com/calendar/2669729/cdd-board-m
 eeting-may-2022
DTSTART:20220519T140000Z
DTEND:20220519T150000Z
ATTACH;FILENAME=2022-05-19 SJF Agenda.pdf;FMTTYPE=application/pdf:https://c
 ampussuite-storage.s3.amazonaws.com/prod/1558952/bada2d46-f057-11e9-a90e-1
 2606da399aa/2415618/cffb2338-d222-11ec-b142-0ec82c86700b/file/2022-05-19 S
 JF Agenda.pdf
END:VEVENT
END:VCALENDAR
