BEGIN:VCALENDAR
VERSION:2.0
PRODID:SchoolNow
CALSCALE:GREGORIAN
BEGIN:VEVENT
UID:5d88bb38-fc37-11eb-853a-027f917cf3f1
DTSTAMP:20220714T211052Z
SUMMARY:CDD Board Meeting - Jul. 2022
LOCATION:First Florida Credit Union Community Room\, 1950 CR 210 West\, St.
  Johns\, FL 32259
URL;VALUE=URI:https://www.stjohnsforestcdd.com/calendar/2669730/cdd-board-m
 eeting-jul-2022
DTSTART:20220721T140000Z
DTEND:20220721T150000Z
ATTACH;FILENAME=2022-07-21 SJF Agenda Revised JD.pdf;FMTTYPE=application/pd
 f:https://campussuite-storage.s3.amazonaws.com/prod/1558952/bada2d46-f057-
 11e9-a90e-12606da399aa/2445043/696d48c6-03b9-11ed-b239-0285b2549fc1/file/2
 022-07-21 SJF Agenda Revised JD.pdf
END:VEVENT
END:VCALENDAR
