BEGIN:VCALENDAR
VERSION:2.0
PRODID:SchoolNow
CALSCALE:GREGORIAN
BEGIN:VEVENT
UID:6c709684-fc37-11eb-bdbc-027f917cf3f1
DTSTAMP:20220908T182936Z
SUMMARY:CDD Board Meeting - Sept. 2022
LOCATION:First Florida Credit Union Community Room\, 1950 CR 210 West\, St.
  Johns\, FL 32259
URL;VALUE=URI:https://www.stjohnsforestcdd.com/calendar/2669731/cdd-board-m
 eeting-sept-2022
DTSTART:20220915T140000Z
DTEND:20220915T150000Z
ATTACH;FILENAME=2022-09-15 SJF Agenda .pdf;FMTTYPE=application/pdf:https://
 campussuite-storage.s3.amazonaws.com/prod/1558952/bada2d46-f057-11e9-a90e-
 12606da399aa/2473448/2706e318-2fa4-11ed-a616-0ec0e8dd59f9/file/2022-09-15 
 SJF Agenda .pdf
END:VEVENT
END:VCALENDAR
