BEGIN:VCALENDAR
VERSION:2.0
PRODID:SchoolNow
CALSCALE:GREGORIAN
BEGIN:VEVENT
UID:325e8114-350b-11ed-8338-028f87d667fd
DTSTAMP:20221110T223104Z
SUMMARY:CDD Board Meeting - Nov. 2022
LOCATION:First Florida Credit Union Community Room\, 1950 CR 210 West\, St.
  Johns\, FL 32259
URL;VALUE=URI:https://www.stjohnsforestcdd.com/calendar/3397097/cdd-board-m
 eeting-nov-2022
DTSTART:20221117T150000Z
DTEND:20221117T160000Z
ATTACH;FILENAME=2022-11-17 SJF Agenda.pdf;FMTTYPE=application/pdf:https://c
 ampussuite-storage.s3.amazonaws.com/prod/1558952/bada2d46-f057-11e9-a90e-1
 2606da399aa/2508019/cb386df2-6146-11ed-bdf5-0ecb5cf7071d/file/2022-11-17 S
 JF Agenda.pdf
END:VEVENT
END:VCALENDAR
