BEGIN:VCALENDAR
VERSION:2.0
PRODID:SchoolNow
CALSCALE:GREGORIAN
BEGIN:VEVENT
UID:46a29200-350b-11ed-bac6-028f87d667fd
DTSTAMP:20230112T221733Z
SUMMARY:CDD Board Meeting - Jan. 2023
LOCATION:First Florida Credit Union Community Room\, 1950 CR 210 West\, St.
  Johns\, FL 32259
URL;VALUE=URI:https://www.stjohnsforestcdd.com/calendar/3397098/cdd-board-m
 eeting-jan-2023
DTSTART:20230119T150000Z
DTEND:20230119T160000Z
ATTACH;FILENAME=2023-01-19 SJF Agenda without page numbers.pdf;FMTTYPE=appl
 ication/pdf:https://campussuite-storage.s3.amazonaws.com/prod/1558952/bada
 2d46-f057-11e9-a90e-12606da399aa/2536295/e632df0a-92c6-11ed-88ec-0a205b774
 a9d/file/2023-01-19 SJF Agenda without page numbers.pdf
END:VEVENT
END:VCALENDAR
