BEGIN:VCALENDAR
VERSION:2.0
PRODID:SchoolNow
CALSCALE:GREGORIAN
BEGIN:VEVENT
UID:52d588ca-350b-11ed-ae23-028f87d667fd
DTSTAMP:20230309T193733Z
SUMMARY:CDD Board Meeting - Mar. 2023
LOCATION:First Florida Credit Union Community Room\, 1950 CR 210 West\, St.
  Johns\, FL 32259
URL;VALUE=URI:https://www.stjohnsforestcdd.com/calendar/3397099/cdd-board-m
 eeting-mar-2023
DTSTART:20230316T140000Z
DTEND:20230316T150000Z
ATTACH;FILENAME=2023-03-16 SJF Agenda.pdf;FMTTYPE=application/pdf:https://c
 ampussuite-storage.s3.amazonaws.com/prod/1558952/bada2d46-f057-11e9-a90e-1
 2606da399aa/2562170/a393f3f2-beb1-11ed-91aa-029820e9a813/file/2023-03-16 S
 JF Agenda.pdf
END:VEVENT
END:VCALENDAR
