BEGIN:VCALENDAR
VERSION:2.0
PRODID:SchoolNow
CALSCALE:GREGORIAN
BEGIN:VEVENT
UID:6e76669e-350b-11ed-86a2-028f87d667fd
DTSTAMP:20230714T153612Z
SUMMARY:CDD Board Meeting - Jul. 2023
LOCATION:First Florida Credit Union Community Room\, 1950 CR 210 West\, St.
  Johns\, FL 32259
URL;VALUE=URI:https://www.stjohnsforestcdd.com/calendar/3397102/cdd-board-m
 eeting-jul-2023
DTSTART:20230720T140000Z
DTEND:20230720T150000Z
ATTACH;FILENAME=2023-07-20 SJF Agenda.pdf;FMTTYPE=application/pdf:https://c
 ampussuite-storage.s3.amazonaws.com/prod/1558952/bada2d46-f057-11e9-a90e-1
 2606da399aa/2630312/27668c9a-225c-11ee-ab9f-0e28888e306f/file/2023-07-20 S
 JF Agenda.pdf
END:VEVENT
END:VCALENDAR
