BEGIN:VCALENDAR
VERSION:2.0
PRODID:SchoolNow
CALSCALE:GREGORIAN
BEGIN:VEVENT
UID:79549e5a-350b-11ed-ad3d-028f87d667fd
DTSTAMP:20230914T214008Z
SUMMARY:CDD Board Meeting - Sept. 2023
LOCATION:First Florida Credit Union Community Room\, 1950 CR 210 West\, St.
  Johns\, FL 32259
URL;VALUE=URI:https://www.stjohnsforestcdd.com/calendar/3397104/cdd-board-m
 eeting-sept-2023
DTSTART:20230921T140000Z
DTEND:20230921T150000Z
ATTACH;FILENAME=2023-09-21 SJF Agenda without page numbers.pdf;FMTTYPE=appl
 ication/pdf:https://campussuite-storage.s3.amazonaws.com/prod/1558952/bada
 2d46-f057-11e9-a90e-12606da399aa/2661314/4256393a-5347-11ee-ac60-0ad554c62
 dc1/file/2023-09-21 SJF Agenda without page numbers.pdf
END:VEVENT
END:VCALENDAR
