BEGIN:VCALENDAR
VERSION:2.0
PRODID:SchoolNow
CALSCALE:GREGORIAN
BEGIN:VEVENT
UID:399aaefc-6af2-11ef-a0ac-0a58a9feac02
DTSTAMP:20250515T184458Z
SUMMARY:CDD Board Meeting - May 2025
LOCATION:First Florida Credit Union Community Room\, 1950 CR 210 West\, St.
  Johns\, FL 32259
URL;VALUE=URI:https://www.stjohnsforestcdd.com/calendar/6523904/cdd-board-m
 eeting-may-2025
DTSTART:20250522T140000Z
DTEND:20250522T150000Z
ATTACH;FILENAME=2025-05-22 ST JOHNS FOREST CDD AGENDA PACKAGE.pdf;FMTTYPE=a
 pplication/pdf:https://campussuite-storage.s3.amazonaws.com/prod/1558952/b
 ada2d46-f057-11e9-a90e-12606da399aa/2954635/af718e84-31bc-11f0-84ce-0a58a9
 feac02/file/2025-05-22 ST JOHNS FOREST CDD AGENDA PACKAGE.pdf
END:VEVENT
END:VCALENDAR
