BEGIN:VCALENDAR
VERSION:2.0
PRODID:SchoolNow
CALSCALE:GREGORIAN
BEGIN:VEVENT
UID:45de3ac6-6af2-11ef-9667-0affe1aa4417
DTSTAMP:20250716T212155Z
SUMMARY:CDD Board Meeting - Jul. 2025
LOCATION:First Florida Credit Union Community Room\, 1950 CR 210 West\, St.
  Johns\, FL 32259
URL;VALUE=URI:https://www.stjohnsforestcdd.com/calendar/6523905/cdd-board-m
 eeting-jul-2025
DTSTART:20250724T140000Z
DTEND:20250724T150000Z
ATTACH;FILENAME=2025-07-24 ST JOHNS FOREST CDD AGENDA PACKAGE.pdf;FMTTYPE=a
 pplication/pdf:https://campussuite-storage.s3.amazonaws.com/prod/1558952/b
 ada2d46-f057-11e9-a90e-12606da399aa/2982450/a83a87b6-628a-11f0-8df6-0a58a9
 feac02/file/2025-07-24 ST JOHNS FOREST CDD AGENDA PACKAGE.pdf
END:VEVENT
END:VCALENDAR
