BEGIN:VCALENDAR
VERSION:2.0
PRODID:SchoolNow
CALSCALE:GREGORIAN
BEGIN:VEVENT
UID:520c55b2-6af2-11ef-b75b-0e6bfe1ea243
DTSTAMP:20250918T152346Z
SUMMARY:CDD Board Meeting - Sept. 2025
LOCATION:First Florida Credit Union Community Room\, 1950 CR 210 West\, St.
  Johns\, FL 32259
URL;VALUE=URI:https://www.stjohnsforestcdd.com/calendar/6523906/cdd-board-m
 eeting-sept-2025
DTSTART:20250925T140000Z
DTEND:20250925T150000Z
ATTACH;FILENAME=2025-09-25 ST JOHNS FOREST CDD AGENDA PACKAGE.pdf;FMTTYPE=a
 pplication/pdf:https://campussuite-storage.s3.amazonaws.com/prod/1558952/b
 ada2d46-f057-11e9-a90e-12606da399aa/3008573/75501b90-94a3-11f0-9701-02795e
 4934c3/file/2025-09-25 ST JOHNS FOREST CDD AGENDA PACKAGE.pdf
END:VEVENT
END:VCALENDAR
