BEGIN:VCALENDAR
VERSION:2.0
PRODID:SchoolNow
CALSCALE:GREGORIAN
BEGIN:VEVENT
UID:b7ddfdfe-3b13-11f0-a616-0ebf031402d3
DTSTAMP:20250613T120459Z
SUMMARY:CDD Special Board Meeting - Jun. 2025
LOCATION:First Florida Credit Union Community Room\, 1950 CR 210 West\, St.
  Johns\, FL 32259
URL;VALUE=URI:https://www.stjohnsforestcdd.com/calendar/8207534/cdd-special
 -board-meeting-jun-2025
DTSTART:20250620T140000Z
DTEND:20250620T150000Z
ATTACH;FILENAME=2025-06-20 ST JOHNS FOREST CDD AGENDA PACKAGE.pdf;FMTTYPE=a
 pplication/pdf:https://campussuite-storage.s3.amazonaws.com/prod/1558952/b
 ada2d46-f057-11e9-a90e-12606da399aa/2968516/9df4fe40-484e-11f0-a435-0affe1
 1e2879/file/2025-06-20 ST JOHNS FOREST CDD AGENDA PACKAGE.pdf
END:VEVENT
END:VCALENDAR
