BEGIN:VCALENDAR
VERSION:2.0
PRODID:SchoolNow
CALSCALE:GREGORIAN
BEGIN:VEVENT
UID:6a50d848-81c4-11f0-a698-0e8b14fcf377
DTSTAMP:20251113T152952Z
SUMMARY:CDD Board Meeting - Nov. 2025
LOCATION:First Florida Credit Union Community Room\, 1950 CR 210 West\, St.
  Johns\, FL 32259
URL;VALUE=URI:https://www.stjohnsforestcdd.com/calendar/8541040/cdd-board-m
 eeting-nov-2025
DTSTART:20251120T150000Z
DTEND:20251120T160000Z
ATTACH;FILENAME=2025-11-20 ST JOHNS FOREST CDD AGENDA PACKAGE.pdf;FMTTYPE=a
 pplication/pdf:https://campussuite-storage.s3.amazonaws.com/prod/1558952/b
 ada2d46-f057-11e9-a90e-12606da399aa/3037443/95e23d24-c0a5-11f0-9573-0a58a9
 feac02/file/2025-11-20 ST JOHNS FOREST CDD AGENDA PACKAGE.pdf
END:VEVENT
END:VCALENDAR
