BEGIN:VCALENDAR
VERSION:2.0
PRODID:SchoolNow
CALSCALE:GREGORIAN
BEGIN:VEVENT
UID:768463d2-81c4-11f0-9839-0a58a9feac02
DTSTAMP:20260115T141630Z
SUMMARY:CDD Board Meeting - Jan. 2026
LOCATION:First Florida Credit Union Community Room\, 1950 CR 210 West\, St.
  Johns\, FL 32259
URL;VALUE=URI:https://www.stjohnsforestcdd.com/calendar/8541041/cdd-board-m
 eeting-jan-2026
DTSTART:20260122T150000Z
DTEND:20260122T160000Z
ATTACH;FILENAME=2026-01-22 ST JOHNS FOREST CDD AGENDA PACKAGE.pdf;FMTTYPE=a
 pplication/pdf:https://campussuite-storage.s3.amazonaws.com/prod/1558952/b
 ada2d46-f057-11e9-a90e-12606da399aa/3060575/c4e30ba0-f21c-11f0-ae0e-0afff4
 3ea003/file/2026-01-22 ST JOHNS FOREST CDD AGENDA PACKAGE.pdf
END:VEVENT
END:VCALENDAR
