BEGIN:VCALENDAR
VERSION:2.0
PRODID:SchoolNow
CALSCALE:GREGORIAN
BEGIN:VEVENT
UID:96dccbec-81c4-11f0-8431-022e31aca1f7
DTSTAMP:20250825T150259Z
SUMMARY:CDD Board Meeting - Jul. 2026
LOCATION:First Florida Credit Union Community Room\, 1950 CR 210 West\, St.
  Johns\, FL 32259
URL;VALUE=URI:https://www.stjohnsforestcdd.com/calendar/8541044/cdd-board-m
 eeting-jul-2026
DTSTART:20260730T140000Z
DTEND:20260730T150000Z
END:VEVENT
END:VCALENDAR
