BEGIN:VCALENDAR
VERSION:2.0
PRODID:SchoolNow
CALSCALE:GREGORIAN
BEGIN:VEVENT
UID:a4e257d4-81c4-11f0-9cd8-0a58a9feac02
DTSTAMP:20250825T150322Z
SUMMARY:CDD Board Meeting - Sept. 2026
LOCATION:First Florida Credit Union Community Room\, 1950 CR 210 West\, St.
  Johns\, FL 32259
URL;VALUE=URI:https://www.stjohnsforestcdd.com/calendar/8541045/cdd-board-m
 eeting-sept-2026
DTSTART:20260924T140000Z
DTEND:20260924T150000Z
END:VEVENT
END:VCALENDAR
